BEGIN:VCALENDAR
PRODID:-//eluceo/ical//2.0/EN
VERSION:2.0
CALSCALE:GREGORIAN
BEGIN:VEVENT
UID:99d0cc0ce7c83bc39c8d3fa8709b06bf
DTSTAMP:20260424T111004Z
SUMMARY:Philosophischer Spaziergang: Wovon leben wir?
DESCRIPTION:https://www.philosophie-engel.de/veranstaltungen/wovon-leben-wi
 r?s=Calendar\nBitte vor Veranstaltungsbeginn auf etwaige Terminänderungen
  prüfen.
URL:https://www.philosophie-engel.de/veranstaltungen/wovon-leben-wir?s=Cale
 ndar
DTSTART:20220924T140000
DTEND:20220924T160000
LOCATION:Aussichtspunkt Geroksruhe\, 70186\, Stuttgart
GEO:48.767136;9.199923
X-APPLE-STRUCTURED-LOCATION;VALUE=URI;X-ADDRESS=Aussichtspunkt Geroksruhe\,
  70186\, Stuttgart;X-APPLE-RADIUS=49;X-TITLE=Geroksruhe:geo:48.767136,9.19
 9923
ORGANIZER;CN=Philosophie Engel:mailto:info@philosophie-engel.de
END:VEVENT
BEGIN:VTIMEZONE
TZID:Europe/Berlin
BEGIN:DAYLIGHT
DTSTART:20220924T140000
TZNAME:CEST
TZOFFSETTO:+0200
TZOFFSETFROM:+0200
END:DAYLIGHT
END:VTIMEZONE
END:VCALENDAR
