BEGIN:VCALENDAR
PRODID:-//eluceo/ical//2.0/EN
VERSION:2.0
CALSCALE:GREGORIAN
BEGIN:VEVENT
UID:1973ae91e81ce0651f77a05ec1d5e644
DTSTAMP:20260424T110346Z
SUMMARY:Philosophischer Spaziergang: Wer hat Zeit?
DESCRIPTION:https://www.philosophie-engel.de/veranstaltungen/wer-hat-zeit-2
 ?s=Calendar\nBitte vor Veranstaltungsbeginn auf etwaige Terminänderungen 
 prüfen.
URL:https://www.philosophie-engel.de/veranstaltungen/wer-hat-zeit-2?s=Calen
 dar
DTSTART:20220430T140000
DTEND:20220430T163000
LOCATION:Aussichtspunkt Geroksruhe\, 70186\, Stuttgart
GEO:48.767136;9.199923
X-APPLE-STRUCTURED-LOCATION;VALUE=URI;X-ADDRESS=Aussichtspunkt Geroksruhe\,
  70186\, Stuttgart;X-APPLE-RADIUS=49;X-TITLE=Geroksruhe:geo:48.767136,9.19
 9923
ORGANIZER;CN=Philosophie Engel:mailto:info@philosophie-engel.de
END:VEVENT
BEGIN:VTIMEZONE
TZID:Europe/Berlin
BEGIN:DAYLIGHT
DTSTART:20220430T140000
TZNAME:CEST
TZOFFSETTO:+0200
TZOFFSETFROM:+0200
END:DAYLIGHT
END:VTIMEZONE
END:VCALENDAR
