BEGIN:VCALENDAR
PRODID:-//eluceo/ical//2.0/EN
VERSION:2.0
CALSCALE:GREGORIAN
BEGIN:VEVENT
UID:4dd116a7d623e1335f67aa2da98116d2
DTSTAMP:20260424T111426Z
SUMMARY:Philosophisches Café: "Verantwortung"
DESCRIPTION:https://www.philosophie-engel.de/veranstaltungen/verantwortung?
 s=Calendar\nBitte vor Veranstaltungsbeginn auf etwaige Terminänderungen p
 rüfen.
URL:https://www.philosophie-engel.de/veranstaltungen/verantwortung?s=Calend
 ar
DTSTART:20130924T193000
DTEND:20130924T193000
LOCATION:Stadtbücherei Aichtal\, Hindenburgstr. 18\, 72631\, Aichtal
GEO:48.626204;9.263375
X-APPLE-STRUCTURED-LOCATION;VALUE=URI;X-ADDRESS=Stadtbücherei Aichtal\, Hi
 ndenburgstr. 18\, 72631\, Aichtal;X-APPLE-RADIUS=49;X-TITLE=Stadtbücherei
  Aichtal:geo:48.626204,9.263375
ORGANIZER;CN=Philosophie Engel:mailto:info@philosophie-engel.de
END:VEVENT
BEGIN:VTIMEZONE
TZID:Europe/Berlin
BEGIN:DAYLIGHT
DTSTART:20130924T193000
TZNAME:CEST
TZOFFSETTO:+0200
TZOFFSETFROM:+0200
END:DAYLIGHT
END:VTIMEZONE
END:VCALENDAR
