BEGIN:VCALENDAR
PRODID:-//eluceo/ical//2.0/EN
VERSION:2.0
CALSCALE:GREGORIAN
BEGIN:VEVENT
UID:2df042df52bc073b754ff4b142bf1c0d
DTSTAMP:20260424T112608Z
SUMMARY:Philosophisches Café: Philosophieren heißt Sterben lernen?
DESCRIPTION:https://www.philosophie-engel.de/veranstaltungen/philosophieren
 -heisst-sterben-lernen-2?s=Calendar\nBitte vor Veranstaltungsbeginn auf et
 waige Terminänderungen prüfen.
URL:https://www.philosophie-engel.de/veranstaltungen/philosophieren-heisst-
 sterben-lernen-2?s=Calendar
DTSTART:20251210T180000
DTEND:20251210T193000
LOCATION:MELA-Café\, Haus der Katholischen Kirche\, Königstraße 7\, 7017
 3\, Stuttgart
GEO:48.779962;9.179940
X-APPLE-STRUCTURED-LOCATION;VALUE=URI;X-ADDRESS=MELA-Café\, Haus der Katho
 lischen Kirche\, Königstraße 7\, 70173\, Stuttgart;X-APPLE-RADIUS=49;X-T
 ITLE=Mela Café:geo:48.779962,9.179940
ORGANIZER;CN=Philosophie Engel:mailto:info@philosophie-engel.de
END:VEVENT
BEGIN:VTIMEZONE
TZID:Europe/Berlin
BEGIN:STANDARD
DTSTART:20251210T180000
TZNAME:CET
TZOFFSETTO:+0100
TZOFFSETFROM:+0100
END:STANDARD
END:VTIMEZONE
END:VCALENDAR
