BEGIN:VCALENDAR
PRODID:-//eluceo/ical//2.0/EN
VERSION:2.0
CALSCALE:GREGORIAN
BEGIN:VEVENT
UID:0e9a9e2baf90c278dd9497a02d69e2d7
DTSTAMP:20260424T111906Z
SUMMARY:Philosophisches Café: "Philosophie zum Lachen"
DESCRIPTION:https://www.philosophie-engel.de/veranstaltungen/philosophie-zu
 m-lachen?s=Calendar\nBitte vor Veranstaltungsbeginn auf etwaige Terminänd
 erungen prüfen.
URL:https://www.philosophie-engel.de/veranstaltungen/philosophie-zum-lachen
 ?s=Calendar
DTSTART:20200130T193000
DTEND:20200130T210000
LOCATION:Weltcafé\, Charlottenplatz 17\, 70173\, Stuttgart-Mitte
GEO:48.776215;9.182182
X-APPLE-STRUCTURED-LOCATION;VALUE=URI;X-ADDRESS=Weltcafé\, Charlottenplatz
  17\, 70173\, Stuttgart-Mitte;X-APPLE-RADIUS=49;X-TITLE=Weltcafé:geo:48.7
 76215,9.182182
ORGANIZER;CN=Philosophie Engel:mailto:info@philosophie-engel.de
END:VEVENT
BEGIN:VTIMEZONE
TZID:Europe/Berlin
BEGIN:STANDARD
DTSTART:20200130T193000
TZNAME:CET
TZOFFSETTO:+0100
TZOFFSETFROM:+0100
END:STANDARD
END:VTIMEZONE
END:VCALENDAR
