BEGIN:VCALENDAR
PRODID:-//eluceo/ical//2.0/EN
VERSION:2.0
CALSCALE:GREGORIAN
BEGIN:VEVENT
UID:4710b89830e7c3ec8bd5c807c97466c0
DTSTAMP:20260424T112304Z
SUMMARY:Philosophisches Café: "Philosophie zum Lachen"
DESCRIPTION:https://www.philosophie-engel.de/veranstaltungen/philosophie-zu
 m-lachen-2?s=Calendar\nBitte vor Veranstaltungsbeginn auf etwaige Terminä
 nderungen prüfen.
URL:https://www.philosophie-engel.de/veranstaltungen/philosophie-zum-lachen
 -2?s=Calendar
DTSTART:20211118T193000
DTEND:20211118T210000
LOCATION:Academie der schönsten Künste\, Charlottenstraße 5\, 70182\, St
 uttgart-Mitte
GEO:48.775320;9.184110
X-APPLE-STRUCTURED-LOCATION;VALUE=URI;X-ADDRESS=Academie der schönsten Kü
 nste\, Charlottenstraße 5\, 70182\, Stuttgart-Mitte;X-APPLE-RADIUS=49;X-T
 ITLE=Academie der schönsten Künste:geo:48.775320,9.184110
ORGANIZER;CN=Philosophie Engel:mailto:info@philosophie-engel.de
END:VEVENT
BEGIN:VTIMEZONE
TZID:Europe/Berlin
BEGIN:STANDARD
DTSTART:20211118T193000
TZNAME:CET
TZOFFSETTO:+0100
TZOFFSETFROM:+0100
END:STANDARD
END:VTIMEZONE
END:VCALENDAR
