BEGIN:VCALENDAR
PRODID:-//eluceo/ical//2.0/EN
VERSION:2.0
CALSCALE:GREGORIAN
BEGIN:VEVENT
UID:485bba85d5a6e14dcd8df3e5971a6353
DTSTAMP:20260424T112736Z
SUMMARY:Philosophie-Seminar: Macchiavelli - Moral und Politik
DESCRIPTION:https://www.philosophie-engel.de/veranstaltungen/macchiavelli-m
 oral-und-politik-57?s=Calendar\nBitte vor Veranstaltungsbeginn auf etwaige
  Terminänderungen prüfen.
URL:https://www.philosophie-engel.de/veranstaltungen/macchiavelli-moral-und
 -politik-57?s=Calendar
DTSTART:20130607T093000
DTEND:20130607T130000
LOCATION:Salemer Pfleghof Esslingen\, Untere Beutau 8-10\, 73728\, Esslinge
 n
GEO:48.743621;9.305907
X-APPLE-STRUCTURED-LOCATION;VALUE=URI;X-ADDRESS=Salemer Pfleghof Esslingen\
 , Untere Beutau 8-10\, 73728\, Esslingen;X-APPLE-RADIUS=49;X-TITLE=Salemer
  Pfleghof Esslingen:geo:48.743621,9.305907
ORGANIZER;CN=Philosophie Engel:mailto:info@philosophie-engel.de
END:VEVENT
BEGIN:VTIMEZONE
TZID:Europe/Berlin
BEGIN:DAYLIGHT
DTSTART:20130607T093000
TZNAME:CEST
TZOFFSETTO:+0200
TZOFFSETFROM:+0200
END:DAYLIGHT
END:VTIMEZONE
END:VCALENDAR
