BEGIN:VCALENDAR
PRODID:-//eluceo/ical//2.0/EN
VERSION:2.0
CALSCALE:GREGORIAN
BEGIN:VEVENT
UID:19539e3838caa9a041d98d18f1ea3077
DTSTAMP:20260424T111804Z
SUMMARY:Philosophie-Seminar: Kants drei große kritische Werke
DESCRIPTION:https://www.philosophie-engel.de/veranstaltungen/kants-drei-gro
 sse-kritische-werke?s=Calendar\nBitte vor Veranstaltungsbeginn auf etwaige
  Terminänderungen prüfen.
URL:https://www.philosophie-engel.de/veranstaltungen/kants-drei-grosse-krit
 ische-werke?s=Calendar
DTSTART:20140314T093000
DTEND:20140314T130000
LOCATION:Salemer Pfleghof Esslingen\, Untere Beutau 8-10\, 73728\, Esslinge
 n
GEO:48.743621;9.305907
X-APPLE-STRUCTURED-LOCATION;VALUE=URI;X-ADDRESS=Salemer Pfleghof Esslingen\
 , Untere Beutau 8-10\, 73728\, Esslingen;X-APPLE-RADIUS=49;X-TITLE=Salemer
  Pfleghof Esslingen:geo:48.743621,9.305907
ORGANIZER;CN=Philosophie Engel:mailto:info@philosophie-engel.de
END:VEVENT
BEGIN:VTIMEZONE
TZID:Europe/Berlin
BEGIN:STANDARD
DTSTART:20140314T093000
TZNAME:CET
TZOFFSETTO:+0100
TZOFFSETFROM:+0100
END:STANDARD
END:VTIMEZONE
END:VCALENDAR
