BEGIN:VCALENDAR
PRODID:-//eluceo/ical//2.0/EN
VERSION:2.0
CALSCALE:GREGORIAN
BEGIN:VEVENT
UID:dc89353c6720e3cffcb3ef7f6ac5aef0
DTSTAMP:20260424T111221Z
SUMMARY:Philosophisches Café: "Freut euch des Lebens!"
DESCRIPTION:https://www.philosophie-engel.de/veranstaltungen/freut-euch-des
 -lebens?s=Calendar\nBitte vor Veranstaltungsbeginn auf etwaige Terminände
 rungen prüfen.
URL:https://www.philosophie-engel.de/veranstaltungen/freut-euch-des-lebens?
 s=Calendar
DTSTART:20180327T193000
DTEND:20180327T193000
LOCATION:Pflegezentrum Paulinenpark\, Seidenstraße 35\, 70174\, Stuttgart
GEO:48.780715;9.165803
X-APPLE-STRUCTURED-LOCATION;VALUE=URI;X-ADDRESS=Pflegezentrum Paulinenpark\
 , Seidenstraße 35\, 70174\, Stuttgart;X-APPLE-RADIUS=49;X-TITLE=Pflegezen
 trum Paulinenpark:geo:48.780715,9.165803
ORGANIZER;CN=Philosophie Engel:mailto:info@philosophie-engel.de
END:VEVENT
BEGIN:VTIMEZONE
TZID:Europe/Berlin
BEGIN:DAYLIGHT
DTSTART:20180327T193000
TZNAME:CEST
TZOFFSETTO:+0200
TZOFFSETFROM:+0200
END:DAYLIGHT
END:VTIMEZONE
END:VCALENDAR
