BEGIN:VCALENDAR
PRODID:-//eluceo/ical//2.0/EN
VERSION:2.0
CALSCALE:GREGORIAN
BEGIN:VEVENT
UID:f1fbbf655325af06099a867cb85b62c6
DTSTAMP:20260424T111501Z
SUMMARY:Philosophisches Café: „Fragen ohne Ende“
DESCRIPTION:https://www.philosophie-engel.de/veranstaltungen/fragen-ohne-en
 de?s=Calendar\nBitte vor Veranstaltungsbeginn auf etwaige Terminänderunge
 n prüfen.
URL:https://www.philosophie-engel.de/veranstaltungen/fragen-ohne-ende?s=Cal
 endar
DTSTART:20130514T193000
DTEND:20130514T213000
LOCATION:Stadtbücherei Aichtal\, Hindenburgstr. 18\, 72631\, Aichtal
GEO:48.626204;9.263375
X-APPLE-STRUCTURED-LOCATION;VALUE=URI;X-ADDRESS=Stadtbücherei Aichtal\, Hi
 ndenburgstr. 18\, 72631\, Aichtal;X-APPLE-RADIUS=49;X-TITLE=Stadtbücherei
  Aichtal:geo:48.626204,9.263375
ORGANIZER;CN=Philosophie Engel:mailto:info@philosophie-engel.de
END:VEVENT
BEGIN:VTIMEZONE
TZID:Europe/Berlin
BEGIN:DAYLIGHT
DTSTART:20130514T193000
TZNAME:CEST
TZOFFSETTO:+0200
TZOFFSETFROM:+0200
END:DAYLIGHT
END:VTIMEZONE
END:VCALENDAR
